BEGIN:VCALENDAR
VERSION:2.0
PRODID:icalendar-ruby
CALSCALE:GREGORIAN
METHOD:PUBLISH
BEGIN:VEVENT
DTSTAMP:20260423T082530Z
UID:5-1286195@cultivatechurch.tithelysetup5.com
DTSTART:20260830T160000Z
DTEND:20260830T170000Z
CLASS:PUBLIC
CREATED:20260422T215345
DESCRIPTION:Sunday Worship
LAST-MODIFIED:20260422T215345
LOCATION:
SUMMARY:Sunday Worship
URL;VALUE=URI:https://www.cultivatedfw.com/events/sunday-worship/2026-08-30
END:VEVENT
END:VCALENDAR
