BEGIN:VCALENDAR
VERSION:2.0
PRODID:icalendar-ruby
CALSCALE:GREGORIAN
METHOD:PUBLISH
BEGIN:VEVENT
DTSTAMP:20260423T184304Z
UID:5-1287339@cultivatechurch.tithelysetup5.com
DTSTART:20261018T160000Z
DTEND:20261018T170000Z
CLASS:PUBLIC
CREATED:20260423T131250
DESCRIPTION:Sunday Worship
LAST-MODIFIED:20260423T131250
LOCATION:
SUMMARY:Sunday Worship
URL;VALUE=URI:https://www.cultivatedfw.com/events/sunday-worship/2026-10-18
END:VEVENT
END:VCALENDAR
