BEGIN:VCALENDAR
VERSION:2.0
PRODID:icalendar-ruby
CALSCALE:GREGORIAN
METHOD:PUBLISH
BEGIN:VEVENT
DTSTAMP:20260423T215848Z
UID:5-1287720@cultivatechurch.tithelysetup5.com
DTSTART:20261101T170000Z
DTEND:20261101T180000Z
CLASS:PUBLIC
CREATED:20260423T160808
DESCRIPTION:Sunday Worship
LAST-MODIFIED:20260423T160808
LOCATION:
SUMMARY:Sunday Worship
URL;VALUE=URI:https://www.cultivatedfw.com/events/sunday-worship/2026-11-01
END:VEVENT
END:VCALENDAR
